BEGIN:VCALENDAR
PRODID:-//github.com/ical-org/ical.net//NONSGML ical.net 4.0//EN
VERSION:2.0
BEGIN:VEVENT
CLASS:PUBLIC
CREATED:20260424T153323
DESCRIPTION:The 5th edition of ICYF's Diplomacy Academy is about to kick o
 ff. Diplomats\, community leaders\, and scholars are coming together to t
 rain the next generation of young diplomats and prospective leaders in di
 plomacy\, statesmanship\, leadership & community building.\nApply\; http:
 //icyfdigital.com/Event/40\n\n
DTEND:20221102T030000
DTSTAMP:20260424T123323Z
DTSTART:20221101T030000
LOCATION:
SEQUENCE:0
SUMMARY:5th DIPLOMACY ACADEMY
UID:4b2a3117-2490-49d5-8aee-726ac03946e7
END:VEVENT
END:VCALENDAR
